BEGIN:VCALENDAR
VERSION:2.0
PRODID:spatie/icalendar-generator
DESCRIPTION:Events from The Village at Woodside
X-WR-CALDESC:Events from The Village at Woodside
REFRESH-INTERVAL;VALUE=DURATION:PT1440M
X-PUBLISHED-TTL:PT1440M
BEGIN:VTIMEZONE
TZID:Etc/GMT+0
BEGIN:STANDARD
DTSTART:20240224T173000Z
TZOFFSETFROM:+0000
TZOFFSETTO:+0000
END:STANDARD
END:VTIMEZONE
BEGIN:VTIMEZONE
TZID:UTC
BEGIN:STANDARD
DTSTART:20250726T114447Z
TZOFFSETFROM:+0000
TZOFFSETTO:+0000
END:STANDARD
END:VTIMEZONE
BEGIN:VEVENT
UID:122-105
DTSTAMP:20260422T114447Z
SUMMARY:Southern Comfort Night
LOCATION:The Reserve Club at Woodside 3000 The Reserve Club Drive  Aiken SC
  29803
ORGANIZER;CN=Summer Taylor:MAILTO:staylor@woodsidecommunities.com
DTSTART;TZID=Etc/GMT+0:20241120T173000
DTEND;TZID=Etc/GMT+0:20241120T200000
X-ALT-DESC;FMTTYPE=TEXT/HTML:Y'all asked for it! Join us in the dining room
  for an exclusive menu of your favorite classic southern foods. Click here
  for more information about this event on the Club's Social Calendar!
CATEGORIES:Reserve Club Event
URL;VALUE=URI:https://thevillageatwoodside.com/mc-events/southern-comfort-n
 ight/
METHOD:PUBLISH
END:VEVENT
END:VCALENDAR